BEGIN:VCALENDAR
VERSION:2.0
PRODID:-//ExhibitionMatches.com//NONSGML v1.0//EN
BEGIN:VEVENT
UID=6B0A6355-D77E-5F59-6CBFDE66552BEF78
DTSTAMP=20260424T001234Z
DTSTART;VALUE=DATE:20260627
DTEND;VALUE=DATE:20260628
SUMMARY:Battle on the Gridiron
LOCATION:Liberty Center, OH
DESCRIPTION:View full event details: https://wrestlingtournaments.org/view.cfm?ID=107070

URL;VALUE=URI:https://wrestlingtournaments.org/view.cfm?ID=107070
END:VEVENT
END:VCALENDAR